BEGIN:VCALENDAR
VERSION:2.0
CALSCALE:GREGORIAN
BEGIN:VEVENT
SUMMARY:Park OUTDOOR ~ All levels
DTSTART;TZID=Australia/Perth:20210108T080000
DTEND;TZID=Australia/Perth:20210108T090000
LOCATION:Cruentas Way, Halls Head
DESCRIPTION: 
STATUS:CONFIRMED
SEQUENCE:0
END:VEVENT
END:VCALENDAR