BEGIN:VCALENDAR
VERSION:2.0
CALSCALE:GREGORIAN
BEGIN:VEVENT
SUMMARY:Stretching
DTSTART;TZID=Europe/Malta:20230321T181500
DTEND;TZID=Europe/Malta:20230321T191500
LOCATION:Wise Panda Studio
DESCRIPTION: Stretching with Radina ! Work on  your flexibility and achieve your splits with those helpful stretches
STATUS:CONFIRMED
SEQUENCE:0
END:VEVENT
END:VCALENDAR