BEGIN:VCALENDAR
VERSION:2.0
CALSCALE:GREGORIAN
BEGIN:VEVENT
SUMMARY:RELAX (Kurs 15.04.-01.07.)
DTSTART;TZID=Europe/Berlin:20260415T190000
DTEND;TZID=Europe/Berlin:20260415T201500
LOCATION:Friedhofstr. 1, 40764 Langenfeld
DESCRIPTION: In diesem Kurs erwarten dich fließende Vinyasa Elemente für mehr Kraft/Stabilität sowie sanfte (Faszien)Dehnungen aus dem Yin Yoga für mehr Beweglichkeit. Erholsame Atemübungen und Achtsamkeits-/Yoga Nidra Mediation sorgen für Entspannung und Gelassenheit. Die ideale Vorbereitung für einen entspannten Abend und für einen besseren Schlaf!
Auch für Yoga-Neulinge geeignet.

Wichtig: warme und bequeme Kleidung tragen und eventuell eine gemütliche Decke mitbringen!

Level: 0, offen für alle
STATUS:CONFIRMED
SEQUENCE:0
END:VEVENT
END:VCALENDAR