BEGIN:VCALENDAR
VERSION:2.0
CALSCALE:GREGORIAN
BEGIN:VEVENT
SUMMARY:Privé groeps aerial sessie
DTSTART;TZID=Europe/Amsterdam:20260215T150000
DTEND;TZID=Europe/Amsterdam:20260215T163000
LOCATION:Schoolstraat 28, Delft
DESCRIPTION: 
STATUS:CONFIRMED
SEQUENCE:0
END:VEVENT
END:VCALENDAR