BEGIN:VCALENDAR
VERSION:2.0
CALSCALE:GREGORIAN
BEGIN:VEVENT
SUMMARY:Mindfulness
DTSTART;TZID=Europe/Amsterdam:20240413T190000
DTEND;TZID=Europe/Amsterdam:20240413T200000
LOCATION:Oostzeedijk 108 | De Achtertuin
DESCRIPTION: Test
STATUS:CONFIRMED
SEQUENCE:0
END:VEVENT
END:VCALENDAR