BEGIN:VCALENDAR
VERSION:2.0
CALSCALE:GREGORIAN
BEGIN:VEVENT
SUMMARY:The Art of Listening
DTSTART;TZID=Europe/Amsterdam:20200613T140000
DTEND;TZID=Europe/Amsterdam:20200613T163000
LOCATION:Home
DESCRIPTION: In this workshop we will look into what it needs to be a good listener. Which qualities are there to develop and why can it be so difficult to do? It will give a clear understanding in how we are not responsible for not being good listeners, but that it’s mere an effect of our modern society.
STATUS:CONFIRMED
SEQUENCE:0
END:VEVENT
END:VCALENDAR