BEGIN:VCALENDAR
VERSION:2.0
CALSCALE:GREGORIAN
BEGIN:VEVENT
SUMMARY:Personal Training Class
DTSTART;TZID=Europe/Athens:20220706T103000
DTEND;TZID=Europe/Athens:20220706T113000
LOCATION:IN STUDIO
DESCRIPTION: PT CLASS
STATUS:CONFIRMED
SEQUENCE:0
END:VEVENT
END:VCALENDAR