BEGIN:VCALENDAR
VERSION:2.0
CALSCALE:GREGORIAN
BEGIN:VEVENT
SUMMARY:YOGA PRIVATE SESSION
DTSTART;TZID=Europe/Athens:20220713T120000
DTEND;TZID=Europe/Athens:20220713T130000
LOCATION:ONLINE
DESCRIPTION: MARIA KONTOU
STATUS:CONFIRMED
SEQUENCE:0
END:VEVENT
END:VCALENDAR