BEGIN:VCALENDAR
VERSION:2.0
CALSCALE:GREGORIAN
BEGIN:VEVENT
SUMMARY:REFORMER PRIVATE SESSION
DTSTART;TZID=Europe/Athens:20220715T152500
DTEND;TZID=Europe/Athens:20220715T162500
LOCATION:YAMA YOGA STUDIO
DESCRIPTION: ATHINA POLITI
STATUS:CONFIRMED
SEQUENCE:0
END:VEVENT
END:VCALENDAR