BEGIN:VCALENDAR
VERSION:2.0
CALSCALE:GREGORIAN
BEGIN:VEVENT
SUMMARY:YOGA FIT FOR ALL ONLINE
DTSTART;TZID=Europe/Athens:20250915T190000
DTEND;TZID=Europe/Athens:20250915T200000
LOCATION:YAMA YOGA STUDIO
DESCRIPTION: 
STATUS:CONFIRMED
SEQUENCE:0
END:VEVENT
END:VCALENDAR