BEGIN:VCALENDAR
VERSION:2.0
CALSCALE:GREGORIAN
BEGIN:VEVENT
SUMMARY:14H-18H ✨ Soins énergétiques sur réservation
DTSTART;TZID=Europe/Paris:20250314T140000
DTEND;TZID=Europe/Paris:20250314T180000
LOCATION:Réservation : yeahga.fr/nos-soins
DESCRIPTION: 
STATUS:CONFIRMED
SEQUENCE:0
END:VEVENT
END:VCALENDAR