BEGIN:VCALENDAR
VERSION:2.0
CALSCALE:GREGORIAN
BEGIN:VEVENT
SUMMARY:Power + Ashtanga + Hatha 🥷 LE MASTER FLOW 🌚
DTSTART;TZID=Europe/Paris:20250418T181500
DTEND;TZID=Europe/Paris:20250418T193000
LOCATION:13 rue du Mail, 69004 Lyon
DESCRIPTION: Une fusion ultime du Power Yoga, du Hatha Yoga et du Ashtanga Yoga 
✔︎ Classe réservée aux initiés et niveaux intermédiaire/avancés uniquement

- Postures avancées
- Flow dynamique et engageant
- Cardiovasculaire 
- Souplesse et étirements
- Pratiques respiratoires
- Pratique autonome en fin de classe sur postures tenues
- Yoga Nidra
STATUS:CONFIRMED
SEQUENCE:0
END:VEVENT
END:VCALENDAR