BEGIN:VCALENDAR
VERSION:2.0
CALSCALE:GREGORIAN
BEGIN:VEVENT
SUMMARY:RETRAITE YEAHGA 😎
DTSTART;TZID=Europe/Paris:20250620T110000
DTEND;TZID=Europe/Paris:20250620T210000
LOCATION:13 rue du Mail, 69004 Lyon
DESCRIPTION: Le studio est fermé, notre matériel est parti en retraite.
STATUS:CONFIRMED
SEQUENCE:0
END:VEVENT
END:VCALENDAR