BEGIN:VCALENDAR
VERSION:2.0
CALSCALE:GREGORIAN
BEGIN:VEVENT
SUMMARY:Yoga pour enfants 🧒🏼👧🏼 YOGA KIDS
DTSTART;TZID=Europe/Paris:20250910T153000
DTEND;TZID=Europe/Paris:20250910T161500
LOCATION:13 rue du Mail, 69004 Lyon
DESCRIPTION: YOGA KIDS – Du fun, du calme et du mouvement !

YOGA KIDS, c’est une classe pensée pour les enfants de 4 à 8 ans, où on bouge, on respire et on s’amuse pendant 45 min. ! À travers des postures ludiques, des jeux, des histoires et un peu de relaxation, les enfants découvrent le yoga tout en douceur. ♥️

On travaille la concentration, l’équilibre, la souplesse et surtout… on apprend à écouter son corps et ses émotions. Chaque séance est une aventure : on devient un arbre, un chat, une montagne ou un super-héros — toujours dans le mouvement et le sourire.

Pas de pression, pas de compétition : juste un moment pour bouger, se recentrer et se détendre en s’amusant.

YOGA KIDS, c’est une bulle de bien-être pour les petits… et un super outil pour grandir sereinement.

&gt;&gt; Arrivée min. 5 minutes avant le début du cours. Les cours débutent à l&#039;heure. Tout retard (même de quelques minutes) entraîne la perte du crédit. L’annulation du cours est à faire 5 heures AVANT le début du cours.

&gt;&gt; Lorsqu&#039;un cours est complet, la mention &quot;liste d&#039;attente&quot; apparaît . La liste d&#039;attente fonctionne par ordre d&#039;inscription. Tu seras notifié.e par e-mail si une place se libère. Tu as toujours la possibilité d&#039;annuler ton inscription en liste d&#039;attente si tu n&#039;es finalement plus disponible (la fenêtre d&#039;annulation de 5h00 s&#039;applique).
STATUS:CONFIRMED
SEQUENCE:0
END:VEVENT
END:VCALENDAR