BEGIN:VCALENDAR
VERSION:2.0
CALSCALE:GREGORIAN
BEGIN:VEVENT
SUMMARY:MENSUEL 🧚🏻 Danse intuitive
DTSTART;TZID=Europe/Paris:20251002T181500
DTEND;TZID=Europe/Paris:20251002T190000
LOCATION:13 rue du Mail, 69004 Lyon
DESCRIPTION: L&#039;EXTASE FLOW – Libère-toi par le mouvement

L&#039;EXTASE FLOW, c’est une expérience de danse intuitive pour évacuer le stress, les tensions et les émotions… sans filtre, sans jugement. Ici, pas de chorégraphie ♥️ juste toi, ton corps, ta respiration.

On commence par un réveil corporel en douceur, on explore des mouvements libres, guidés par la musique, les sensations et les thèmes proposés par la facilitatrice. Tu bouges comme tu veux, tu respires, tu relâches. Lâcher-prise total ++

La chromothérapie vient accompagner la séance mais un masque sur les yeux est fortement conseillé.

EXTASE FLOW, c’est un moment pour t’exprimer pleinement, retrouver ta vitalité, et sortir du mental. Accessible à tous, même (et surtout) si tu crois ne pas &quot;savoir danser&quot;.

Viens transpirer, vibrer, pleurer, rire, t’alléger. Avec EXTASE FLOW, ton corps devient ton exutoire… et ta liberté.
STATUS:CONFIRMED
SEQUENCE:0
END:VEVENT
END:VCALENDAR