BEGIN:VCALENDAR
VERSION:2.0
CALSCALE:GREGORIAN
BEGIN:VEVENT
SUMMARY:Pilates avec Amandine
DTSTART;TZID=Europe/Paris:20250626T193000
DTEND;TZID=Europe/Paris:20250626T203000
LOCATION:95 rue Consolat 13001 Marseille
DESCRIPTION: Ce cours combine les principes fondamentaux du Pilates avec des enchaînements rythmés et intenses. Les exercices sollicitent l’ensemble du corps, en mettant l’accent sur le renforcement du centre (abdos, dos, fessiers). Idéal pour tonifier, améliorer la posture et gagner en énergie, tout en douceur mais avec du challenge !
STATUS:CONFIRMED
SEQUENCE:0
END:VEVENT
END:VCALENDAR