BEGIN:VCALENDAR
VERSION:2.0
CALSCALE:GREGORIAN
BEGIN:VEVENT
SUMMARY:Yin Yoga
DTSTART;TZID=Europe/Paris:20260403T121500
DTEND;TZID=Europe/Paris:20260403T131500
LOCATION:Centre Milysens 16 boulevard du Canal, THONON-LES-BAINS
DESCRIPTION: 
STATUS:CONFIRMED
SEQUENCE:0
END:VEVENT
END:VCALENDAR