BEGIN:VCALENDAR
VERSION:2.0
CALSCALE:GREGORIAN
BEGIN:VEVENT
SUMMARY:Yoga Nidra
DTSTART;TZID=Europe/Amsterdam:20191028T200000
DTEND;TZID=Europe/Amsterdam:20191028T211500
LOCATION:Het Holos Huis
DESCRIPTION: Na een kleine serie asana&#039;s lig je lange tijd in de savasana houding. De Yoga Nidra is een vorm van geleide meditatie, een soort slaap bij volle bewustzijn. Je lichaam rust en je geest is wakker. Lichaam en geest komen tot diepe rust.
STATUS:CONFIRMED
SEQUENCE:0
END:VEVENT
END:VCALENDAR