BEGIN:VCALENDAR
VERSION:2.0
CALSCALE:GREGORIAN
BEGIN:VEVENT
SUMMARY:Maandagochtend 9:30 uur
DTSTART;TZID=Europe/Amsterdam:20200203T090000
DTEND;TZID=Europe/Amsterdam:20200203T100000
LOCATION:Meerzigt Eastermar
DESCRIPTION: Begin de week met een heerlijke yin les en bestel daarna een lekker kop koffie of thee bij Christiaan.
STATUS:CONFIRMED
SEQUENCE:0
END:VEVENT
END:VCALENDAR