BEGIN:VCALENDAR
VERSION:2.0
CALSCALE:GREGORIAN
BEGIN:VEVENT
SUMMARY:YOGA YIN YANG 🌙☀️
DTSTART;TZID=Europe/Paris:20260311T193000
DTEND;TZID=Europe/Paris:20260311T203000
LOCATION:560 Bagny, 69620 Létra
DESCRIPTION: Dans ce cours, nous explorerons la douceur et le travail en profondeur du Yin yoga couplé à la fluidité et l’intensité du yoga dynamique. Deux univers complémentaires pour accéder à une détente du corps totale !

❤️ Matériel de pratique fourni
🙏🏻 Annulation possible maximum 24h avant le début du cours
STATUS:CONFIRMED
SEQUENCE:0
END:VEVENT
END:VCALENDAR