BEGIN:VCALENDAR
VERSION:2.0
CALSCALE:GREGORIAN
BEGIN:VEVENT
SUMMARY:Yoga für Senioren
DTSTART;TZID=Europe/Vienna:20240626T093000
DTEND;TZID=Europe/Vienna:20240626T103000
LOCATION:Sausal 137, 8443 Gleinstätten
DESCRIPTION: Yogastunden angepasst an den Bedürfnissen älterer Menschen. Wir üben und meditieren hauptsächlich am Stuhl. (Chair-Yoga)

Ich bitte um verbindliche Anmeldung unter 0676/9794477.
STATUS:CONFIRMED
SEQUENCE:0
END:VEVENT
END:VCALENDAR