BEGIN:VCALENDAR
VERSION:2.0
CALSCALE:GREGORIAN
BEGIN:VEVENT
SUMMARY:Zomerse workshop (laatste voor de zomervakantie)
DTSTART;TZID=Europe/Amsterdam:20230723T100000
DTEND;TZID=Europe/Amsterdam:20230723T123000
LOCATION:Het Arsenaal Doesburg
DESCRIPTION: 
STATUS:CONFIRMED
SEQUENCE:0
END:VEVENT
END:VCALENDAR