BEGIN:VCALENDAR
VERSION:2.0
CALSCALE:GREGORIAN
BEGIN:VEVENT
SUMMARY:Sesión de yoga Soft / Intensidad Baja
DTSTART;TZID=Europe/Madrid:20260510T191500
DTEND;TZID=Europe/Madrid:20260510T203000
LOCATION:
DESCRIPTION: Cada Domingo una clase especial, mira nuestro Ig
STATUS:CONFIRMED
SEQUENCE:0
END:VEVENT
END:VCALENDAR