BEGIN:VCALENDAR
VERSION:2.0
CALSCALE:GREGORIAN
BEGIN:VEVENT
SUMMARY:Mysore privé
DTSTART;TZID=Europe/Paris:20250625T184500
DTEND;TZID=Europe/Paris:20250625T201500
LOCATION:6, rue Petrelle 75009 Paris
DESCRIPTION: Cours dans un appartement privé dans le 9e arrondissement. 6 personnes maximum.
Prix: 25 euros
Envoyez un mail à wasko.yoga@gmail.com pour vous assurer qu&#039;il reste de la place et pour obtenir l’adresse exacte de l’endroit où le cours se tiendra.
STATUS:CONFIRMED
SEQUENCE:0
END:VEVENT
END:VCALENDAR