BEGIN:VCALENDAR
VERSION:2.0
CALSCALE:GREGORIAN
BEGIN:VEVENT
SUMMARY:Vinyasa tous niveaux
DTSTART;TZID=Europe/Paris:20250309T093000
DTEND;TZID=Europe/Paris:20250309T110000
LOCATION:12, rue Godefroy Cavaignac
DESCRIPTION: Les inscriptions à l&#039;avance sont nécessaires.

Code porte: c1702a
STATUS:CONFIRMED
SEQUENCE:0
END:VEVENT
END:VCALENDAR