BEGIN:VCALENDAR
VERSION:2.0
CALSCALE:GREGORIAN
BEGIN:VEVENT
SUMMARY:Deuxième série guidée
DTSTART;TZID=Europe/Paris:20250330T093000
DTEND;TZID=Europe/Paris:20250330T110000
LOCATION:12, rue Godefroy Cavaignac
DESCRIPTION: Le cours est destiné aux pratiquants réguliers de la première série. Si vous ne connaissez pas encore bien les positions, des modifications vous seront proposées.
Les inscriptions à l&amp;#039;avance sont nécessaires.

Code porte: c1702a
STATUS:CONFIRMED
SEQUENCE:0
END:VEVENT
END:VCALENDAR