BEGIN:VCALENDAR
VERSION:2.0
CALSCALE:GREGORIAN
BEGIN:VEVENT
SUMMARY:pilates
DTSTART;TZID=Europe/Paris:20251223T111500
DTEND;TZID=Europe/Paris:20251223T121500
LOCATION:dojo de brionne,rue eugene marie
DESCRIPTION: seances de renforcement musculaire profonde,privilegiant les muscles posturaux,le plancher pelvien et le centre du corps,et respectueux des articulations,avec ou sans accessoires
STATUS:CONFIRMED
SEQUENCE:0
END:VEVENT
END:VCALENDAR