BEGIN:VCALENDAR
VERSION:2.0
CALSCALE:GREGORIAN
BEGIN:VEVENT
SUMMARY:Winter Solstice Yin and Yoga Nidra Immersion
DTSTART;TZID=Australia/Sydney:20250622T160000
DTEND;TZID=Australia/Sydney:20250622T180000
LOCATION:52 Banks Street East Maitland
DESCRIPTION: On the weekend of the Winter Solstice, nature invites us into stillness.A sacred pause, where the external dims and the inner light becomes our guide.The exact Solstice occurs at 12:41pm on Saturday 21stJune,marking the darkest and most introspective point of our seasonal cycle.And so, on Sunday evening, 22nd June, we gather in the quiet after glow to honour this turning point through Yin Yoga and Yoga Nidra.This 2-hour Winter Solstice Immersion blends the nourishing stillness of Yin Yoga with the deep release of Yoga Nidra, guiding us toward a space of replenishment and renewal.In Traditional Chinese Medicine, winter aligns with the Water element and the organs of the Kidneys and Urinary Bladder, which are said to be the reservoirs of our life force, our Qi. When these organs are nurtured,we access our deepest reserves of vitality and wisdom. When depleted, fear cantake root.Through long-held Yin postures, we stimulate these meridians, gently unblocking stored tension and emotion. As we soften, we open the channels to restore flow, steadiness, and courage.Then, guided by the profound practice of Yoga Nidra - ‘yogic sleep’, you’ll be led into a liminal space between wakefulness and dream. Here,the veil of the ego thins. It is from this place of effortless rest that we plant the seed of Sankalpa, our soul’s quiet intention.This Immersion is suitable for all levels of experience and health. Please bring a mat, a pillow, and layers to keep warm.Let’s meet in stillness. Let’s return to the quiet source within.I look forward to sharing this evening of deep rest and reconnection with you.
STATUS:CONFIRMED
SEQUENCE:0
END:VEVENT
END:VCALENDAR