BEGIN:VCALENDAR
VERSION:2.0
CALSCALE:GREGORIAN
BEGIN:VEVENT
SUMMARY:Yin + Yoga Nidra - Summer Solstice (Litha)
DTSTART;TZID=Australia/Sydney:20251221T160000
DTEND;TZID=Australia/Sydney:20251221T180000
LOCATION:Organic Feast
DESCRIPTION: For yogis and spiritual seekers, the Summer Solstice - Litha - is more than a turning of the seasons. It’s an invitation to honour the light within, to celebrate abundance, and to stoke the fire of transformation that burns at the heart of our practice.
This afternoon immersion will weave together Yin Yoga, Pranayama, Mantra and Yoga Nidra — a journey to balance the radiance of the external sun with the quiet flame of your inner world. You’ll be guided to soften, to listen, and to align with the natural rhythm of expansion that the Solstice brings.
As we gather in community on this longest day, we’ll pause to reflect on the growth that has unfolded through the year, offering gratitude for what has been and setting intentions for what is yet to bloom.
A space for stillness, renewal, and gentle ritual - come to reconnect, replenish, and rest in the golden glow of summer’s light. 
Please bring: your mat, a blanket, and a cushion or bolster (if you have one)
STATUS:CONFIRMED
SEQUENCE:0
END:VEVENT
END:VCALENDAR