BEGIN:VCALENDAR
VERSION:2.0
CALSCALE:GREGORIAN
BEGIN:VEVENT
SUMMARY:Hatha Special - Becoming Aware
DTSTART;TZID=Europe/Amsterdam:20250828T193000
DTEND;TZID=Europe/Amsterdam:20250828T210000
LOCATION:Losplaatsweg 24A, Noordwijk
DESCRIPTION: Een echte klassieke Hatha Yogales waar Adem en  Lichaam samenkomen. De asana&#039;s brengen je naar de dieper lagen van jezelf waar je afstemt op wat er zich toont. Concentratie en Contemplatie om naar een meditatievere staat te komen. Uiteraard afgesloten met de eindontspanning, Savasana.
STATUS:CONFIRMED
SEQUENCE:0
END:VEVENT
END:VCALENDAR