BEGIN:VCALENDAR
VERSION:2.0
CALSCALE:GREGORIAN
BEGIN:VEVENT
SUMMARY:Senioren Yoga Online
DTSTART;TZID=Europe/Amsterdam:20251128T110000
DTEND;TZID=Europe/Amsterdam:20251128T120000
LOCATION:Thuis
DESCRIPTION: Om namo bhagawate bhaishjaye guru
vaidurya prabha rajaya tathagataya
arthe sammyaksam buddhaya
teyatha
Om bekhajye bekhajye maha bekhajye
bekhajye rajaya samungate svaha
STATUS:CONFIRMED
SEQUENCE:0
END:VEVENT
END:VCALENDAR