BEGIN:VCALENDAR
VERSION:2.0
CALSCALE:GREGORIAN
BEGIN:VEVENT
SUMMARY:Ersättningsklass Hathayoga
DTSTART;TZID=Europe/Stockholm:20250512T190000
DTEND;TZID=Europe/Stockholm:20250512T201500
LOCATION:Yogastudion i Kolmården
DESCRIPTION: Ersättningsklass för deltagare på kursen Hathayoga Våren 2025.
STATUS:CONFIRMED
SEQUENCE:0
END:VEVENT
END:VCALENDAR