BEGIN:VCALENDAR
VERSION:2.0
CALSCALE:GREGORIAN
BEGIN:VEVENT
SUMMARY:Ersättningsklass Hatha Flow
DTSTART;TZID=Europe/Stockholm:20250513T173000
DTEND;TZID=Europe/Stockholm:20250513T184500
LOCATION:Yogastudion i Kolmården
DESCRIPTION: Ersättningsklass för deltagare på kursen Hatha Flow Våren 2025.
STATUS:CONFIRMED
SEQUENCE:0
END:VEVENT
END:VCALENDAR