BEGIN:VCALENDAR
VERSION:2.0
CALSCALE:GREGORIAN
BEGIN:VEVENT
SUMMARY:Drop-in: Yin &amp; Yoga Nidra
DTSTART;TZID=Europe/Stockholm:20251215T190000
DTEND;TZID=Europe/Stockholm:20251215T201500
LOCATION:Yogastudion i Kolmården
DESCRIPTION: Eva Ekdahl håller denna klass istället för Lina, då Lina är sjuk.

Yin &amp; Yoga Nidra - En lugn och återhämtande stund

Yinyoga är en lugn och återhämtande form av yoga som kännetecknas av passiva positioner med en lätt, mjuk stretch, utförda i stillhet och medveten närvaro. Varje position hålls ca 3-5 minuter vilket ger oss tid att även lugna sinnet.

Yoga Nidra är en guidad djupavslappning som utförs liggandes i stilla vila (Savasana). Yoga Nidra ger effektiv återhämtning och är bra för att släppa taget om både fysiska och mentala spänningar.

Om du har långvarig stelhet och smärtproblematik, känner dig trött eller överstimulerad är detta en klass för dig. Med hjälp av olika hjälpmedel, såsom filtar och bolster, kan du anpassa positionerna efter dina egna förutsättningar.

Nivå: Grund

I mån av plats kan bokning ske ända fram till att klassen börjar. Avbokning möjlig fram till 2 timmar innan klassen startar.

Vid frågor kontakta Lina på lina@yogabylina.se eller 070-3334896
STATUS:CONFIRMED
SEQUENCE:0
END:VEVENT
END:VCALENDAR