BEGIN:VCALENDAR
VERSION:2.0
CALSCALE:GREGORIAN
BEGIN:VEVENT
SUMMARY:Yoga &amp; Meditation with Dr Kamaraj
DTSTART;TZID=Europe/Amsterdam:20201018T100000
DTEND;TZID=Europe/Amsterdam:20201018T130000
LOCATION:At home
DESCRIPTION: A moment with Dr Kamaraj is full of magic. It allows you to revisit your body and your heart, to re-boost your vital energy, to untie physical tensions, to free yourself from emotional anchors ... and to dream and laugh too!
STATUS:CONFIRMED
SEQUENCE:0
END:VEVENT
END:VCALENDAR