BEGIN:VCALENDAR
VERSION:2.0
CALSCALE:GREGORIAN
BEGIN:VEVENT
SUMMARY:Satiam Yoga (Atelier)
DTSTART;TZID=Europe/Paris:20250606T123000
DTEND;TZID=Europe/Paris:20250606T133000
LOCATION:Atelier du Corps
DESCRIPTION: Le cours le plus proche de ma pratique de cœur : une approche globale, inspirante, basée sur le mouvement et l&amp;#039;alignement.
Lieu : Atelier du Corps - Place de la Mandallaz - Annecy
STATUS:CONFIRMED
SEQUENCE:0
END:VEVENT
END:VCALENDAR