BEGIN:VCALENDAR
VERSION:2.0
CALSCALE:GREGORIAN
BEGIN:VEVENT
SUMMARY:Vinyasa Flow para terminar el día/Vinyasa Flow to end the day
DTSTART;TZID=Europe/Madrid:20230206T200000
DTEND;TZID=Europe/Madrid:20230206T211500
LOCATION:Yoga Centre Flow
DESCRIPTION: Termina el día con gratitud y atención plena moviendo tu cuerpo al ritmo de tu respiración consciente. Es una clase dinámica, pero como todas las demás clases en nuestra sala, empieza y termina con meditación y ejercicios de respiración.
STATUS:CONFIRMED
SEQUENCE:0
END:VEVENT
END:VCALENDAR