BEGIN:VCALENDAR
VERSION:2.0
CALSCALE:GREGORIAN
BEGIN:VEVENT
SUMMARY:Mindful Morning Flow en la playa
DTSTART;TZID=Europe/Madrid:20220625T080000
DTEND;TZID=Europe/Madrid:20220625T093000
LOCATION:Yoga Centre Flow
DESCRIPTION: Amig@s!! Salimos a la playa este sábado, 25 de junio, para celebrar el solsticio de verano y el Día Internacional de Yoga (21 de junio!) 
Empezaremos respirando y centrandonos, luego haremos Hatha-Vinyasa, algún juego en pareja, relajación, meditación y respiración basada en el método de Wim Hof. Llevaros bañador y toalla para bañarnos después de la clase!! 
💰precio €10, si traes un amigo €8 cada, miembros de Yoga Centre Flow gratis 🙏🏼
Para reservar tu plaza, contactame por Instagram o WhatsApp : 644028962 Ivana @ivanayogaflow
O entra en www.yogacentreflow.com
Os deseo un día mágico! 
Namaste 

🇬🇧Friends, this following Saturday, 25th June, we&#039;ll celebrate summer solstice and International Yoga Day (21st June) with a beach class 🙌🏻
We&#039;ll start with breathing exercises, centering ourselves to start a new day with an intention, we&#039;ll practice Hatha-Vinyasa and play a bit in pairs, relax, meditate and do Wim Hof breathwork before we jump into the sea!! 
Price €10, but if you bring a friend, €8 each, FREE for Yoga Centre Flow members.
To book your spot, PM me or text me on WhatsApp +34644028962
Or through the website www.yogacentreflow.com 
Wish you a magical day! Amig@s!! Salimos a la playa este sábado, 25 de junio, para celebrar el solsticio de verano y el Día Internacional de Yoga (21 de junio!) 
Empezaremos respirando y centrandonos, luego haremos Hatha-Vinyasa, algún juego en pareja, relajación, meditación y respiración basada en el método de Wim Hof. Llevaros bañador y toalla para bañarnos después de la clase!! 
💰precio €10, si traes un amigo €8 cada, miembros de Yoga Centre Flow gratis 🙏🏼
Para reservar tu plaza, contactame por Instagram o WhatsApp : 644028962 Ivana @ivanayogaflow
O entra en www.yogacentreflow.com
Os deseo un día mágico! 
Namaste 
Ivana
STATUS:CONFIRMED
SEQUENCE:0
END:VEVENT
END:VCALENDAR