BEGIN:VCALENDAR
VERSION:2.0
CALSCALE:GREGORIAN
BEGIN:VEVENT
SUMMARY:Acuyoga Otoño by Julie Millour
DTSTART;TZID=Europe/Madrid:20221002T173000
DTEND;TZID=Europe/Madrid:20221002T193000
LOCATION:Yoga Centre Flow
DESCRIPTION: En esta mezcla única de acupuntura y Yin yoga elemento METAL nos enfocamos en fortalecer el sistema inmune, la digestión e incrementar nuestra energía vital (el qi) 
Contacto: Julie Millour +34662290841
STATUS:CONFIRMED
SEQUENCE:0
END:VEVENT
END:VCALENDAR