BEGIN:VCALENDAR
VERSION:2.0
CALSCALE:GREGORIAN
BEGIN:VEVENT
SUMMARY:Sunset Yoga en la playa  🌇 con Ivana
DTSTART;TZID=Europe/Madrid:20220928T201500
DTEND;TZID=Europe/Madrid:20220928T213000
LOCATION:La Farola
DESCRIPTION: Namaste 🙏🏽
🇪🇸Nos vemos en la playa de la Farola, Malagueta, para terminar el día de una manera especial, haciendo nuestra práctica al aire libre con unas vistas maravillosas al mar..
Haremos una relajación larga al final y meditación enfocada en gratitud 🙏🏽
Solo necesitas una toalla de playa 
💰precio €10
🇬🇧 see you on the beach La Farola, Málaga, to do yoga together while also appreciating the views and relaxing sounds of the waves..
We&#039;ll do a long relaxation and a meditation focused on gratitude at the end of class.
You just need a beach towel! 
💰Price €10 per person
STATUS:CONFIRMED
SEQUENCE:0
END:VEVENT
END:VCALENDAR