BEGIN:VCALENDAR
VERSION:2.0
CALSCALE:GREGORIAN
BEGIN:VEVENT
SUMMARY:Yoga am Morgen
DTSTART;TZID=Europe/Berlin:20260415T084500
DTEND;TZID=Europe/Berlin:20260415T094500
LOCATION:Ostfildern
DESCRIPTION: Eine Stornierung ist bis spätestens 24 h vor Kursbeginn kostenlos möglich! Eine Stornierung ist bis spätestens 24 h vor Kursbeginn kostenlos möglich! Bitte logge dich dazu in deinen Account ein, rufe die Reservierung auf und bestätige &quot;Kurs stornieren&quot;.
Sollte ein Kurs bereits ausgebucht sein, kannst du Dich bei mir auf eine Warteliste setzten lassen.
Voraussetzung für die Durchführung eines Kurses ist das Erreichen der Mindestteilnehmerzahl von 5.
Sollte ein Kurs bereits ausgebucht sein, kannst du Dich bei mir auf eine Warteliste setzten lassen.
Voraussetzung für die Durchführung eines Kurses ist das Erreichen der Mindestteilnehmerzahl von 5.
STATUS:CONFIRMED
SEQUENCE:0
END:VEVENT
END:VCALENDAR