BEGIN:VCALENDAR
VERSION:2.0
CALSCALE:GREGORIAN
BEGIN:VEVENT
SUMMARY:Sanftes Yin Yoga Online via Zoom
DTSTART;TZID=Europe/Berlin:20260214T110000
DTEND;TZID=Europe/Berlin:20260214T120000
LOCATION:Ostfildern
DESCRIPTION: Im Einklang mit dem Herbst entdecken wir die Schönheit des Loslassens – und die Klarheit, die aus der Stille erwächst.
🌿 NEU: Yin Yoga mit Impulsen aus der Yoga-Philosophie
Ein sanfter Kurs, der dich unterstützt, bewusst in den Herbst einzutauchen.
Was dich erwartet:
Sanfte, gehaltene Positionen, die tief ins Gewebe wirken (Stimulation des faszialen Gewebes)
Achtsame Impulse aus der Yoga-Philosophie
Zeit zum Ankommen, Loslassen &amp; Auftanken
Unterstützende Hilfsmittel wie z.B. Bolster, Blöcke oder Gurte
Ein beruhigender Raum für dein Nervensystem

Der Herbst ist kein Ende, sondern eine Einladung zur Verfeinerung.
Zur Besinnung. Und zur Rückverbindung mit dir selbst.

Für alle Level geeignet – ob du ganz neu dabei bist oder tiefer eintauchen möchtest.
Gönn dir eine Stunde des Innehaltens und des bewussten Loslassens – für mehr Ruhe, Tiefe und Verbindung in der dunkler werdenden Jahreszeit.

Eine Stornierung ist bis spätestens 24 h vor Kursbeginn kostenlos möglich! Bitte logge dich dazu in deinen Account ein, rufe die Reservierung auf und bestätige &quot;Kurs stornieren&quot;.
Sollte ein Kurs bereits ausgebucht sein, kannst du Dich bei mir auf eine Warteliste setzten lassen.
Voraussetzung für die Durchführung eines Kurses ist das Erreichen der Mindestteilnehmerzahl von 5.
STATUS:CONFIRMED
SEQUENCE:0
END:VEVENT
END:VCALENDAR