BEGIN:VCALENDAR
VERSION:2.0
CALSCALE:GREGORIAN
BEGIN:VEVENT
SUMMARY:Stretchclass Middle/Straddle splits
DTSTART;TZID=Europe/Amsterdam:20210905T110500
DTEND;TZID=Europe/Amsterdam:20210905T120500
LOCATION:Yoga &amp; Dance Studio Suus
DESCRIPTION: 
STATUS:CONFIRMED
SEQUENCE:0
END:VEVENT
END:VCALENDAR