BEGIN:VCALENDAR
VERSION:2.0
CALSCALE:GREGORIAN
BEGIN:VEVENT
SUMMARY:Restorative Yoga (door Judith)
DTSTART;TZID=Europe/Amsterdam:20260625T193000
DTEND;TZID=Europe/Amsterdam:20260625T210000
LOCATION:Limmen
DESCRIPTION: Speciale les, gegeven door Judith. Deze les biedt plaats aan maximaal 8 personen en duurt 90 minuten. Tijdens deze speciale yogales lig je langer in een houdingen dan bij een yin les, namelijk zo&#039;n 5 tot 10 minuten. In de houdingen wordt je ondersteund door bolsters, blokken, kussens en dekentjes, om het zo comfortabel mogelijk te maken.

Deze speciale yogales bedraagt 27 euro, omdat deze les langer duurt en de groep klein gehouden wordt (maximaal 8 mensen). Naast je boeking in MomoYoga, ontvang je een betaalverzoek voor het restant.
STATUS:CONFIRMED
SEQUENCE:0
END:VEVENT
END:VCALENDAR