BEGIN:VCALENDAR
VERSION:2.0
CALSCALE:GREGORIAN
BEGIN:VEVENT
SUMMARY:Shape &amp; Yoga, inloop vanaf 19.50 uur
DTSTART;TZID=Europe/Amsterdam:20231129T200000
DTEND;TZID=Europe/Amsterdam:20231129T211500
LOCATION:Lokaal 5 Kerkenstraat 5 7064 BH Silvolde
DESCRIPTION: SHAPE en YOGA is een super effectieve les waar kracht en ontspanning samenkomen. Het doel van de functionele oefeningen is om je lichaamshouding te verbeteren en je rug- en buikspieren te versterken. We oefenen met dumbells, weerstandsbanden en je eigen lichaamsgewicht. Na de oefeningen volgt een yogales waar de aandacht ligt bij je ademhaling en het verbeteren van je souplesse. Deze les sluiten we af met een ontspanningsmeditatie. Na deze les voel je je energieker, sterker en meer ontspannen en het kan je helpen  je fysieke klachten te verminderen. Deze les is toegankelijk voor beginners en gevorderden. Voel je welkom!
STATUS:CONFIRMED
SEQUENCE:0
END:VEVENT
END:VCALENDAR