BEGIN:VCALENDAR
VERSION:2.0
CALSCALE:GREGORIAN
BEGIN:VEVENT
SUMMARY:☯️🧬🌀Tuesday 5:30 pm: Ground and Connect: Jason: Earth 🌍
DTSTART;TZID=America/Denver:20260630T173000
DTEND;TZID=America/Denver:20260630T181000
LOCATION:2050 West Main Street, Suite #4
DESCRIPTION: Feel connected to your body, the earth, and each other as you move mindfully
STATUS:CONFIRMED
SEQUENCE:0
END:VEVENT
END:VCALENDAR