BEGIN:VCALENDAR
VERSION:2.0
CALSCALE:GREGORIAN
BEGIN:VEVENT
SUMMARY:Slow Flow (gemeenschapshuis Huissen)
DTSTART;TZID=Europe/Amsterdam:20260327T093000
DTEND;TZID=Europe/Amsterdam:20260327T103000
LOCATION:Gemeenschapshuis Huissen
DESCRIPTION: Let op: neem je eigen matje mee!
STATUS:CONFIRMED
SEQUENCE:0
END:VEVENT
END:VCALENDAR