BEGIN:VCALENDAR
VERSION:2.0
CALSCALE:GREGORIAN
BEGIN:VEVENT
SUMMARY:Yoga Flow with Aaron
DTSTART;TZID=America/New_York:20260420T090000
DTEND;TZID=America/New_York:20260420T100000
LOCATION:1900 Mt. Vernon Ave.
DESCRIPTION: Our Vinyasa classes focus on linking breath with movement in standing, seated, and supine poses. Modifications, including the use of props, will be offered. Participants are encouraged to honor the poses that are most suitable for their practice, and every “body,” at any level of experience, is welcome.
STATUS:CONFIRMED
SEQUENCE:0
END:VEVENT
END:VCALENDAR