BEGIN:VCALENDAR
VERSION:2.0
CALSCALE:GREGORIAN
BEGIN:VEVENT
SUMMARY:Pop Up Gentle Class with NEW Teacher Fatima Baig!
DTSTART;TZID=America/New_York:20260419T173000
DTEND;TZID=America/New_York:20260419T183000
LOCATION:1900 Mt Vernon Ave.
DESCRIPTION: 
STATUS:CONFIRMED
SEQUENCE:0
END:VEVENT
END:VCALENDAR