BEGIN:VCALENDAR
VERSION:2.0
CALSCALE:GREGORIAN
BEGIN:VEVENT
SUMMARY:YOGA FLOW (BINNEN!)
DTSTART;TZID=Europe/Amsterdam:20250716T200000
DTEND;TZID=Europe/Amsterdam:20250716T210000
LOCATION:Studio
DESCRIPTION: De les wordt vanavond binnen gegeven!
STATUS:CONFIRMED
SEQUENCE:0
END:VEVENT
END:VCALENDAR